BEGIN:VCALENDAR
VERSION:2.0
PRODID:-//GOIN - ECPv6.15.20//NONSGML v1.0//EN
CALSCALE:GREGORIAN
METHOD:PUBLISH
X-WR-CALNAME:GOIN
X-ORIGINAL-URL:https://clubgoin.de
X-WR-CALDESC:Veranstaltungen für GOIN
REFRESH-INTERVAL;VALUE=DURATION:PT1H
X-Robots-Tag:noindex
X-PUBLISHED-TTL:PT1H
BEGIN:VTIMEZONE
TZID:Europe/Berlin
BEGIN:DAYLIGHT
TZOFFSETFROM:+0100
TZOFFSETTO:+0200
TZNAME:CEST
DTSTART:20250330T010000
END:DAYLIGHT
BEGIN:STANDARD
TZOFFSETFROM:+0200
TZOFFSETTO:+0100
TZNAME:CET
DTSTART:20251026T010000
END:STANDARD
BEGIN:DAYLIGHT
TZOFFSETFROM:+0100
TZOFFSETTO:+0200
TZNAME:CEST
DTSTART:20260329T010000
END:DAYLIGHT
BEGIN:STANDARD
TZOFFSETFROM:+0200
TZOFFSETTO:+0100
TZNAME:CET
DTSTART:20261025T010000
END:STANDARD
BEGIN:DAYLIGHT
TZOFFSETFROM:+0100
TZOFFSETTO:+0200
TZNAME:CEST
DTSTART:20270328T010000
END:DAYLIGHT
BEGIN:STANDARD
TZOFFSETFROM:+0200
TZOFFSETTO:+0100
TZNAME:CET
DTSTART:20271031T010000
END:STANDARD
END:VTIMEZONE
BEGIN:VEVENT
DTSTART;TZID=Europe/Berlin:20260424T200000
DTEND;TZID=Europe/Berlin:20260425T010000
DTSTAMP:20260422T163210
CREATED:20260327T201638Z
LAST-MODIFIED:20260327T201644Z
UID:3089-1777060800-1777078800@clubgoin.de
SUMMARY:Turm-Tanz-Nacht °2 - Waterloo-Abba Experience
DESCRIPTION:Es ist so weit!! Zweite grosse Turm Tanz Nacht !Auch im Turm oben wird nun getanzt!Tanze mit uns zum besten modernen Schlager und Discofox-Mix ! \n\n\n\nHeute mitThe Abba Experience ist3 Showblöcke über den Abend verteilt Legendäre ABBA-Songs & Disco Classics \n\n\n\nHier wird nicht einfach nur gefeiert –hier wird gesungen\, getanzt & mitgefühlt.Von Dancing Queen bis Gimme! Gimme! Gimme! –jeder Song ein Moment\, jede Minute ein Erlebnis \n\n\n\nFeiern\, Tanzen\, Paartanz – Party wie in den wilden 70ern und 80ern bei uns im Turm .Eine Tanzreise durch die guten alten und neuen Zeiten !100 % Discofox \, Schlager \, Latin \, Eben 100 % Paar Tanz Liedgut . Mega schöne Fox und Party Lieder von den 70s und 80s die jeden auf den Tanzfloor befördern.Hits gemischt von Hacky .Die Mischung machts\, wird bestimmt Megaheiss !Lasst Euch überraschen \, ladet Eure Freunde und alle Tanzfreunde ein . Damit das Tanzpulver auf der Tanzfläche gleichmäßig verteilt wird .Und noch ein Special – alle Gäste erhalten einen Alkoholfreien Punch am Eingang.Dieser Abend umfasst Lieder und Interpreten die man vielleicht lange nicht gehört hat bis hin zu den OHRWÜRMERN\, die immer wieder Spaß machen\, bei denen man einfach mitsingen und abzappeln muss.Die Nacht\, für unsere Musikfans\, Tanzbären\, Dancingqueens und Partybegeisterten! Egal ob Gruppen\, Paare oder Singles\, bei uns sind alle herzlich willkommen\, die Interesse für gute Musik teilen und das Wichtigste: sich nicht “alt” dabei fühlen zu müssen und den Abend ausgelassen genießen zu können! Tanzen bis der Absatz krachtWir spielen für Euch Eine Mischung aus:– Fox Hits \, und Partyschlager von damals bis heute– 80’s / 70’s \,Schlager \, gespickt mit 90ern .– 80’s / 70 s Discofox\, Italo Discofox \, Freestyle .PS: „Wunsch-Konzert“ Reiche deine Lieblings-Songs beim Dj ein und wir spielen von 20:30 Uhr-21:30 die meistgewünschten SongsEinlass 20 00 Uhr Ende 1 UhrReserviert Euch einen Tisch oder Sitzecke unter jh@clubgoin.deAlso auf gehts\, tanzen wie früher\, tanzen und feiern in den ehrwürdigen Gemäuern des Turms .Wir freuen uns und sehen uns dann alle im Turm. Since 1841
URL:https://clubgoin.de/event/turm-tanz-nacht-2-waterloo-abba-experience/
ATTACH;FMTTYPE=image/jpeg:https://clubgoin.de/wp-content/uploads/240426.jpg
END:VEVENT
BEGIN:VEVENT
DTSTART;TZID=Europe/Berlin:20260425T203000
DTEND;TZID=Europe/Berlin:20260426T213000
DTSTAMP:20260422T163210
CREATED:20250102T193250Z
LAST-MODIFIED:20260412T181516Z
UID:2564-1777149000-1777239000@clubgoin.de
SUMMARY:Klassik-Rocknacht im Turm
DESCRIPTION:Seid dabei zur Special Rock und Party Nacht wenn es wieder heisst – It s Only Rock the Best im Turm und Alltime Classics \, Fox\, 80s\, und 90s in der Tanzlounge ! Ob 70er oder 80er – wir lassen die goldene Aera hochleben .So bleibt nur noch eins zu sagen: Schnappt Euch Eure Freunde\, Onkel\, Tante\, Bruder\, usw\, und ab in den Turm .In gewohnter Manier gibt es die beliebten Rockabende mit bestem Sound von den 70ern bis zu den 90ern auf zwei Floors .Geht mit auf eine musikalische Reise der Erinnerungen\, die erfahrene Gäste wieder jung werden lassen und jungen Gästen Erfahrungen bringen!„Forever young“ – kommt mit uns auf eine Zeitreise durch die Musik. Kultparty“ mit bunt gemischter Musik von früher bis heute im Turm am Club GoIn Obergünzburg! Das coole Ambiente des Turms\, die sympathischen Gäste und die tolle Stimmung bilden den passenden Rahmen für einen schönen und ausgelassenen Partyabend. Seid die Ersten\, sagt zu \, teilt die Veranstaltung und ladet Freunde ein. Auf jeden Fall lassen wir´s wieder rocken. Ob 70er oder 80er – wir lassen die goldene Aera hochleben. So bleibt nur noch eins zu sagen: Schnappt Euch Eure Freunde\, Onkel\, Tante\, Bruder\, usw und ab in den Turm. Wie schon die Stones so schön besungen haben. Der Name ist Programm. Auch die schönen 70er werden uns heute begleiten zu den besten 80ern und auch 90ern Rock Hits! Denn wir ziehen die Love Peace Synthie Rock and Pop Generation in den Turm und vereinen die Kultsänger und Bands auf einen Floor.Love and Peace and Power im Turm. Das musikalische Motto des Abends ist klar definiert und so werdet Ihr heute Nacht mit genau jener Musik verwöhnt\, die bei den normalen Partys nur in homöopathischen Dosen zu hören ist : ROCK und zwar in all seinen Farben und Facetten! Von den Sechzigern zu den High Times der 70er. Von Punks und Pudelrockern der 80ern bis zu den 90ern.Wir spielen von AC/ bis ZZ / sowie Kult Disco Songs aus den 70ern \, alle Herzerwärmende und oder Schüttel-Songs aus unserer Jugend aber auch knackigen 90er Rock.Erlebt den wahren Sound einer Fender Stratocaster\, oder ergötzt Euch am Kreischen des guten alten MOOG – Synthies und tanzt mal wieder richtig ab zu Purple\, Golden Radar Love oder Starway to Heaven\, Sweet\, zur Studio 54 Aera !Für alle Raucher und Nichtraucher gibt es einen schönen Außenbereich !► Tanzen erlaubt bis die Socken qualmen► Rock\, Klassik Rock\, Dance Classics\, 70er 80er► 2. Floor : 90er Fox Charts Party► Beginn: 20:30 Uhr ► früh kommen – es geht gleich los!► Eintritt: Abendkasse 6 €► Der Abend läuft ganz im Stil der guten alten 70er bis 90er ab !Geöffnet ab 20:30 Uhr. 
URL:https://clubgoin.de/event/klassik-rocknacht-im-turm-5/
CATEGORIES:LIVE,PARTY,ROCK,TANZEN,TECHNO
ATTACH;FMTTYPE=image/jpeg:https://clubgoin.de/wp-content/uploads/Klassikrock.jpg
END:VEVENT
BEGIN:VEVENT
DTSTART;TZID=Europe/Berlin:20260502T203000
DTEND;TZID=Europe/Berlin:20260503T213000
DTSTAMP:20260422T163210
CREATED:20240408T183914Z
LAST-MODIFIED:20260412T181628Z
UID:2357-1777753800-1777843800@clubgoin.de
SUMMARY:40 PlusMinus im Turm
DESCRIPTION:Wir wollen Euch wieder einen Hauch aus unserer Jugend zelebrieren .Auf gehts wieder zu einer weiteren Ausgabe der 40 Plus /Minus Kultparty“ mit bunt gemischter Musik von früher bis heute im Turm am Club GoIn Obergünzburg !Da heißt es wieder „gar nicht erst aufs Sofa\, sondern direkt los zur 40 Plus / Minus Kultparty und abfeiern bis die Socken qualmen“Das coole Ambiente des Turms und die sympathischen Gäste und die tolle Stimmung bilden den passenden Rahmen für einen schönen und ausgelassenen Partyabend.40 Plus Minus Party heißt tanzen\, abbrocken oder flirten in den alten ehrwürdigen Gemäuern des Turms am Go In in Obergünzburg . Hier treffen sich Gleichgesinnte und erwachsene Musikbegeisterte um bei lockerer Atmosphäre und coolen Drinks abzufeiern !!Für alle ab “ 30″ ist die 40 Plus Minus“ der Tipp\, um mit ihrer eigenen Altersgruppe zu feiern\, zu flirten und mal wieder richtig abzutanzen !Für alle Raucher und Nichtraucher gibt es einen schönen Außenbereich !► Tanzen erlaubt bis die Socken qualmenRock\, Klassik Rock\, Dance Classics\, 70er\, 80er\, 90er\, Fox\, Charts\, Party.▬▬▬ EVENT INFOS ▬▬▬► Beginn: 20:30 Uhr ► früh kommen – es geht gleich los!► Eintritt: Abendkasse 6 \,–► Einlass ab 30 Jahren und Erwachsene Jüngere► Weitere Infos rund um die Party erhaltet ihr auch in der Facebook Gruppe Club GoIn► Parken – Ihr könnt auch problemlos mit dem Auto kommen: Grosser ParkplatzWir freuen uns auf eine unvergessliche Nacht mit Euch
URL:https://clubgoin.de/event/40-plusminus-im-turm-fsk-30-copy-3/
CATEGORIES:LIVE,PARTY,ROCK,TANZEN,TECHNO
ATTACH;FMTTYPE=image/jpeg:https://clubgoin.de/wp-content/uploads/40PlusMinus-Banner.jpg
END:VEVENT
BEGIN:VEVENT
DTSTART;TZID=Europe/Berlin:20260509T203000
DTEND;TZID=Europe/Berlin:20260510T020000
DTSTAMP:20260422T163211
CREATED:20260131T204301Z
LAST-MODIFIED:20260416T192409Z
UID:3037-1778358600-1778378400@clubgoin.de
SUMMARY:80s & 90s Rock Pop im Turm
DESCRIPTION:Die Tanzfläche ruft wieder mit den größten Hits beim „80er/90er Special in den Turm. \n\n\n\nFloor 1: Best of 80er/90er plus 2000er von Rock bis DiscoFloor 2: 90s\, 2000s und HouseWelcome Special: \n\n\n\nDie Playlist deines Lebens – live und laut!* Synthiepop* Dance Klassiker* 80er Disco* NDW* 80’s POP* 80 s \,90s Rock2 Floor \, Schlager und Disco Fox80er- oder 90er Jahre-Outfits sind natürlich willkommen. Die „Jüngeren“ singen bei den Klassikern sicherlich gekonnt mit und für die „Älteren“ gibt es keine Ausrede fürs Nichterscheinen \,\, an diesem Abend kommt EURE Musik.Ab 20 30 Uhr !
URL:https://clubgoin.de/event/80s-90s-im-turm/
ATTACH;FMTTYPE=image/jpeg:https://clubgoin.de/wp-content/uploads/80er-4.jpg
END:VEVENT
BEGIN:VEVENT
DTSTART;TZID=Europe/Berlin:20260516T203000
DTEND;TZID=Europe/Berlin:20260517T213000
DTSTAMP:20260422T163211
CREATED:20241115T145156Z
LAST-MODIFIED:20260416T192628Z
UID:2519-1778963400-1779053400@clubgoin.de
SUMMARY:Klassik-Rocknacht im Turm
DESCRIPTION:Seid dabei wenn es wieder heisst – It s Only Rock the Best im Turm und Alltime Classics \, Fox\, 80s\, und 90s in der Tanzlounge ! Ob 70er oder 80er – wir lassen die goldene Aera hochleben .So bleibt nur noch eins zu sagen: Schnappt Euch Eure Freunde\, Onkel\, Tante\, Bruder\, usw\, und ab in den Turm .In gewohnter Manier gibt es die beliebten Rockabende mit bestem Sound von den 70ern bis zu den 90ern auf zwei Floors .Geht mit auf eine musikalische Reise der Erinnerungen\, die erfahrene Gäste wieder jung werden lassen und jungen Gästen Erfahrungen bringen!„Forever young“ – kommt mit uns auf eine Zeitreise durch die Musik. Kultparty“ mit bunt gemischter Musik von früher bis heute im Turm am Club GoIn Obergünzburg! Das coole Ambiente des Turms\, die sympathischen Gäste und die tolle Stimmung bilden den passenden Rahmen für einen schönen und ausgelassenen Partyabend. Seid die Ersten\, sagt zu \, teilt die Veranstaltung und ladet Freunde ein. Auf jeden Fall lassen wir´s wieder rocken. Ob 70er oder 80er – wir lassen die goldene Aera hochleben. So bleibt nur noch eins zu sagen: Schnappt Euch Eure Freunde\, Onkel\, Tante\, Bruder\, usw und ab in den Turm. Wie schon die Stones so schön besungen haben. Der Name ist Programm. Auch die schönen 70er werden uns heute begleiten zu den besten 80ern und auch 90ern Rock Hits! Denn wir ziehen die Love Peace Synthie Rock and Pop Generation in den Turm und vereinen die Kultsänger und Bands auf einen Floor.Love and Peace and Power im Turm. Das musikalische Motto des Abends ist klar definiert und so werdet Ihr heute Nacht mit genau jener Musik verwöhnt\, die bei den normalen Partys nur in homöopathischen Dosen zu hören ist : ROCK und zwar in all seinen Farben und Facetten! Von den Sechzigern zu den High Times der 70er. Von Punks und Pudelrockern der 80ern bis zu den 90ern.Wir spielen von AC/ bis ZZ / sowie Kult Disco Songs aus den 70ern \, alle Herzerwärmende und oder Schüttel-Songs aus unserer Jugend aber auch knackigen 90er Rock.Erlebt den wahren Sound einer Fender Stratocaster\, oder ergötzt Euch am Kreischen des guten alten MOOG – Synthies und tanzt mal wieder richtig ab zu Purple\, Golden Radar Love oder Starway to Heaven\, Sweet\, zur Studio 54 Aera !Für alle Raucher und Nichtraucher gibt es einen schönen Außenbereich !► Tanzen erlaubt bis die Socken qualmen► Rock\, Klassik Rock\, Dance Classics\, 70er 80er► 2. Floor : 90er Fox Charts Party► Beginn: 20:30 Uhr ► früh kommen – es geht gleich los!► Eintritt: Abendkasse 6 €► Homepage: www.clubgoin.de► Parken – Ihr könnt auch problemlos mit dem Auto kommen: Großer Parkplatz Der Abend läuft ganz im   Stil der guten alten 70er bis 90er ab !Geöffnet ab 20:30 Uhr. 
URL:https://clubgoin.de/event/klassik-rocknacht-im-turm-copy-6/
CATEGORIES:LIVE,PARTY,ROCK,TANZEN,TECHNO
ATTACH;FMTTYPE=image/jpeg:https://clubgoin.de/wp-content/uploads/Klassikrock.jpg
END:VEVENT
BEGIN:VEVENT
DTSTART;TZID=Europe/Berlin:20260523T200000
DTEND;TZID=Europe/Berlin:20260524T030000
DTSTAMP:20260422T163211
CREATED:20260327T210422Z
LAST-MODIFIED:20260327T210427Z
UID:3092-1779566400-1779591600@clubgoin.de
SUMMARY:90 /2000er Pfingst-Rockparty mit Freestyler im GoIn
DESCRIPTION:FREESTYLER aus dem Allgäu bringen euch mit 100% Livemusik den ultimativen Flashback der 90er und 2000er! Dresscode: Baggys\, Miss Sixtys und Buffalos! Fühlt die pure Nostalgiefreude\, wenn wir gemeinsam zu Kultsongs von Nirvana\, der Bloodhoundgang\, Offspring\, Papa Roach\, Pink\, Guano Apes uvm. abrocken!
URL:https://clubgoin.de/event/90-2000er-pfingst-rockparty-mit-freestyler-im-goin/
ATTACH;FMTTYPE=image/jpeg:https://clubgoin.de/wp-content/uploads/230829.jpg
END:VEVENT
BEGIN:VEVENT
DTSTART;TZID=Europe/Berlin:20260530T203000
DTEND;TZID=Europe/Berlin:20260531T213000
DTSTAMP:20260422T163211
CREATED:20260225T195221Z
LAST-MODIFIED:20260413T185410Z
UID:3052-1780173000-1780263000@clubgoin.de
SUMMARY:80s & 90s Single Party im Turm
DESCRIPTION:Der Turm ruft wieder ! Am Samstag\, den 30.5. geht’s mit den größten Hits zur „80er/90er Party ! Heute unter dem Motto Single oder wieder Single Party in den Turm.Willkommen sind alle die Spass am Tanzen haben \, ob Single oder Paare\, egal Hauptsache Spass \n\n\n\nWer sich lieber unterhält als chattet\, „live“ jemanden kennenlernen oder einfach nur PARTY & TANZEN möchte ist hier genau richtig. Selbstverständlich sind auch „Nicht- Singles“ herzlich willkommen.Unsere DJs spielen auf 2 Areas den perfekten Mix aus 80ern\, 90ern und Partysound.Wir freuen uns auf SAMSTAG\, den 21. März\, ….und wer weiß – vielleicht geht’s ja danach auch zu zweit nach Hause  \n\n\n\nDurch farbige Armbänder ist ganz leicht zu erkennen\, wer Single und flirtwillig\, vergeben oder einfach nur zum Feiern da ist.Tanzt zu den besten Hits der 80er & 90er und macht ganz easy neue Bekanntschaften! \n\n\n\nSPECIALS:Status-Armbänder – Zeig\, worauf du Bock hast! Schon vergeben Suche etwas Festes A Bisserl was geht immer„It’s A Match“ – Finde deine Nummer beim Einlass und erhalte ein gratis Freigetränk mit deinem Match an der Bar!  \n\n\n\nEinlass ab 25 J und erwachsene Jüngere ! \n\n\n\n80er/90er FloorFloor 1: Best of 80er / 90er plus 2000er von Rock bis DiscoFloor 2: 90s\, 2000s und House \n\n\n\nDie Playlist deines Lebens – live und laut!* Synthiepop* Dance Klassiker* 80er Disco* NDW* 80’s POP* 80 s \,90s Rock2 Floors\, Schlager und Disco Fox80er- oder 90er Jahre-Outfits sind natürlich willkommen. Die „Jüngeren“ singen bei den Klassikern sicherlich gekonnt mit und für die „Älteren“ gibt es keine Ausrede fürs Nichterscheinen \,\, an diesem Abend kommt EURE Musik.Ab 20 30 Uhr !
URL:https://clubgoin.de/event/80s-90s-single-party-im-turm/
ATTACH;FMTTYPE=image/jpeg:https://clubgoin.de/wp-content/uploads/80er-3.jpg
END:VEVENT
BEGIN:VEVENT
DTSTART;TZID=Europe/Berlin:20260620T193000
DTEND;TZID=Europe/Berlin:20260620T193000
DTSTAMP:20260422T163211
CREATED:20260103T132616Z
LAST-MODIFIED:20260106T195913Z
UID:3004-1781983800-1781983800@clubgoin.de
SUMMARY:Sommerfest mit MIXTAPE live
DESCRIPTION:Auf geht s zum GoIn Sommerfest 2026 !Am Samstag 20.6.2026 zum Sommerfest im Innenhof des GoIns oder bei Regen im Turm !Live auf der Musikgarten Bühne oder im Turm gibt es wieder einen ganz besonderen Abend !Mit der Mega Live Band Mixtape ! .Alle Kult-Songs und Classic-Rock-Hits aus den 80er- und 90er-Jahren\, die man damals täglich im Radio gehört und immer mitgesungen hat\, die aber im Laufe der Zeit fast in Vergessenheit geraten sind.Classic-Rock der etwas anderen Art. Mixtape spielt die Kult-Klassiker der 70er und 80er Jahre\, die ihr schon fast vergessen habt\, die aber jeder kennt.Aha-Effekt? Versprochen!Im Anschluss heißt es dann Dj on the Decks !Wir wollen unseren Beitrag zur musikalischen Früherziehung leisten: Alle Kinder und Jugendliche von    10 – 16 Jahre\, die in Begleitung eines Elternteils zur Party kommen\, bekommen ein Fanta  \n\n\n\nEinlass ist bereits um 19:30 Uhr ! Der Konzertplatz kann bei Regen zu 80 % überdacht werden !Bei Starkregen\, Schneefall oder sonstigen Wetterkatastrophen ziehen wir uns in den Turm zurück\, da ist es warm und trocken  \n\n\n\n Also auf geht s !
URL:https://clubgoin.de/event/sommerfest-mit-mixtape-live/
ATTACH;FMTTYPE=image/jpeg:https://clubgoin.de/wp-content/uploads/Mixtape-5.jpg
END:VEVENT
BEGIN:VEVENT
DTSTART;TZID=Europe/Berlin:20260801T190000
DTEND;TZID=Europe/Berlin:20260802T030000
DTSTAMP:20260422T163211
CREATED:20260108T184613Z
LAST-MODIFIED:20260108T184617Z
UID:3014-1785610800-1785639600@clubgoin.de
SUMMARY:Rock im Günztal - Open Air mit Crasher
DESCRIPTION:Nach dem die Band die letzten Male so richtig abgeräumt haben bei uns\, gibt es einen Nachschlag im Musikgarten !Hier gibt es ein Mega Open Air mit allem was dazu gehört !! \n\n\n\nBester Live Rock\, Open Air Feeling\, Grill und andere Schmankerl\, genügend zum Trinken\, Outdoor Bars\, Lagerfeuer\, Bike Parkplatz\, Aftershow Party usw !Es sind alle – Biker oder nicht Biker – herzlichst eingeladen die auf eine der besten Live Rock Party stehen ! \n\n\n\nBei Regen kann der Platz zu 80 % überdacht werden . !! \n\n\n\nCRASHER – eine der angesagtesten Cover-Rockbands aus München live im Musikgarten GoIn !! \n\n\n\nCRASHER \n\n\n\nIm Jahre 1983 als UNITED CRASH gegründet\, erspielte sich die Münchener Hard’n Heavy Coverband in 4 Jahrzehnten eine große Fangemeinde. Da der Bandgründer im Jahre 2023 verstorben ist\, beschloss man das musikalische Erbe unter dem Namen CRASHER weiterzuführen. Das Credo der Band lag und liegt schon immer in einer feinen Songauswahl und einer hohen musikalischen Qualität. Erstklassige Vocals gepaart mit dreistimmigem Satzgesang und ausgefeilten Gitarrensoli zeichnen denSound der 5 Münchener aus. Von AC/DC\, Krokus und Def Leppard bis Foreigner\, Gotthard und Whitesnake\, CRASHER bietet alles aus der Rock- und Hardrockschublade was das Herz begehrt und liefert garantiert eine heiße Rock’n Roll Party. \n\n\n\nFette After Show Party mit DJ Old Man nach dem Konzert ! \n\n\n\nFür den Hunger gibt es leckere Grill Schmankerl !Eintritt ab 16 zur musikalischen Früherziehung .Einlass ab 19 00 Uhr .
URL:https://clubgoin.de/event/rock-im-guenztal-open-air-mit-crasher/
ATTACH;FMTTYPE=image/jpeg:https://clubgoin.de/wp-content/uploads/Crasher-2.jpg
END:VEVENT
BEGIN:VEVENT
DTSTART;TZID=Europe/Berlin:20260912T200000
DTEND;TZID=Europe/Berlin:20260912T233000
DTSTAMP:20260422T163211
CREATED:20251231T155901Z
LAST-MODIFIED:20260327T085620Z
UID:2996-1789243200-1789255800@clubgoin.de
SUMMARY:Helter Skelter Hautnah im Turm
DESCRIPTION:A Tribute To Classic Rock \n\n\n\nDie Classic-Rock-Band HELTER SKELTER spielt die klassische Rockmusik des vergangenen Jahrhunderts – die der späten 60er\, 70er\, 80er und Anfang 90er Jahre. Dies in einer Perfektion und Spielfreude\, die seinesgleichen sucht. Classic-Rock 100 % authentisch und in anspruchsvollster Qualität. Die 7 Musiker katapultieren die klassische Musik des vergangenen Jahrhunderts in die Gegenwart. \n\n\n\nNur das Beste vom Besten der Besten !!! \n\n\n\nPink Floyd\, Deep Purple\, Uriah Heep\, Motörhead\, Lynyrd Skynyrd\, ZZ Top\, Metallica\, Golden Earring\, Neil Young\, AC/DC\, Dire Straits\, Bruce Springsteen\, Manfred Man’s Earthband\, Police\, Rolling Stones\, Black Sabbath\, Toto\, Queen\, Status Quo\, Neil Young uvm. geben sich in einem 3-stündigen Konzert die Hand.Hier wird Tribut einer ganzen Ära gezollt. Das Konzerterlebnis für alle Fans des-Classic Rock. Ausverkaufte Konzerte sowie Konzerte in den legendären Konzertsälen wie dem Circus Krone Bau München etc. und begeisterte Konzertbesucher bestätigen dies. \n\n\n\nTickets und Infos: www.helter-skelter-live.deEinlass 19:00 Uhr\, Beginn 20:00 Uhr
URL:https://clubgoin.de/event/helter-skelter-hautnah-im-turm/
ATTACH;FMTTYPE=image/jpeg:https://clubgoin.de/wp-content/uploads/Helter-Skelter.jpg
END:VEVENT
BEGIN:VEVENT
DTSTART;TZID=Europe/Berlin:20261017T190000
DTEND;TZID=Europe/Berlin:20261018T030000
DTSTAMP:20260422T163211
CREATED:20240122T193637Z
LAST-MODIFIED:20260108T183858Z
UID:2297-1792263600-1792292400@clubgoin.de
SUMMARY:Heavens Gate Herbst Rock
DESCRIPTION:Stolz dürfen wir Euch verkünden das auch beim 2026 er Herbst Rock im Oktober die Jungs von Heaven s Gate wieder am Start sind . Wer dabei war weiß warum ! \n\n\n\nGleich mal vormerken !! HEAVEN´S GATE – The History of Rock.   Ein Muss für jeden Rockfan .Heaven s Gate Seit 1999 besteht nun die Rockformation HEAVEN´S GATE und hat sich als Live-Music-Act zu einer festen Größe in der Rockevent- und Biker-Szene entwickelt. Die Fusion aus erfahrenen Musikern\, die bereits in verschiedenen Bandprojekten der unterschiedlichsten Stilrichtungen erfolgreich mitwirkten\, hat sich einer bestimmten Musikrichtung verschworen\, welche bis heute ihren musikalischen Lebensweg entscheidend beeinflusst und geprägt hat: Die Rock-Classics der 70er Jahre bis heute.HEAVEN´S GATE steht für professionell\, mit Leidenschaft gespielten puren Powerrock.Auf der Playlist stehen Best of – Nummern von AC/DC – ZZ TOP. Dabei gelingt es der Band diese absoluten Kult-Songs der Musikgeschichte künstlerisch und soundtechnisch auf einem hohen Niveau zu covern\, und ihnen gleichzeitig einen unverkennbaren „Gate´s touch“ zu verleihen.Diesem hohen Anspruch wurden die 5 Vollblutmusiker bereits auf zahlreichen nationalen und internationalen Rock- und Biker-Events gerecht; u.a. mit der neben AC/DC wohl bekanntesten australischen Rockband Rose Tattoo\, auf einer der größten Bikerpartys Deutschlands in Schleiz/Thüringen. \n\n\n\nNur Abendkasse \n\n\n\n \n\n\n\n 
URL:https://clubgoin.de/event/heavens-gate-herbst-rock/
CATEGORIES:LIVE,PARTY,ROCK,TANZEN,TECHNO
ATTACH;FMTTYPE=image/jpeg:https://clubgoin.de/wp-content/uploads/Heavens-Gate_Banner_Mattsies_WEB.jpg
END:VEVENT
END:VCALENDAR